BEGIN:VCALENDAR
VERSION:2.0
PRODID:-//eventon.com NONSGML v1.0//EN
BEGIN:VEVENT
UID:69e737995b1bc
DTSTAMP:20260421T083849
DTSTART:20220416T090000Z
DTEND:20220416T170000Z
LOCATION:Irish Wheelchair Association Áras Chúchulainn\,  Blackheath Dr\,  Clontarf East\, 
SUMMARY:Joola National Junior & Senior Championships Day 2
DESCRIPTION: PROVISIONAL EVENT START TIMES  Friday 15th  Saturday 16th  Sunday 17th  Men’s Singles Groups   1830  U21 Men’s & Women's  0900  Junior Boys & Girls  0900  Women's Singles Groups  1830  Cadet Boy’s & Girls  1200  Mini Cadet Boys  1000      Men’s & Women's KO  1600  Mini Cadet Girls  1000          Restricted  1200         [..]
END:VEVENT
END:VCALENDAR