BEGIN:VCALENDAR
VERSION:2.0
PRODID:-//eventon.com NONSGML v1.0//EN
BEGIN:VEVENT
UID:69ebd04f4cda8
DTSTAMP:20260424T201927
DTSTART:20220306T110000Z
DTEND:20220306T170000Z
LOCATION:Irish Wheelchair Association Áras Chúchulainn\,  Blackheath Dr\,  Clontarf East\, 
SUMMARY:National Para Camp
DESCRIPTION: National Para Camp
END:VEVENT
END:VCALENDAR