BEGIN:VCALENDAR
VERSION:2.0
PRODID:-//eventon.com NONSGML v1.0//EN
BEGIN:VEVENT
UID:69e9fa9376b83
DTSTAMP:20260423T105515
DTSTART:20211204T000000Z
DTEND:20211204T235000Z
LOCATION:Irish Wheelchair Association Áras Chúchulainn\,  Blackheath Dr\,  Clontarf East\, 
SUMMARY:National Para Camp
DESCRIPTION: National Para Camp
END:VEVENT
END:VCALENDAR