BEGIN:VCALENDAR
VERSION:2.0
PRODID:-//eventon.com NONSGML v1.0//EN
BEGIN:VEVENT
UID:69e73b6d4c8f1
DTSTAMP:20260421T085509
DTSTART:20231008T090000Z
DTEND:20231008T170000Z
LOCATION:Irish Wheelchair Association Áras Chúchulainn\,  Blackheath Dr\,  Clontarf East\, 
SUMMARY:National Para Camp
DESCRIPTION: National Para Camp
END:VEVENT
END:VCALENDAR